BEGIN:VCALENDAR
VERSION:2.0
PRODID:-//hacksw/handcal//NONSGML v1.0//EN
CALSCALE:GREGORIAN
BEGIN:VEVENT
UID:19
DTSTAMP:20260422T085526Z
DESCRIPTION:For more info & online bookings:

[B]QUEEN CELL PRODUCTION TUTORIALS FOR PRODUCING LARGE NUMBERS OF QUALITY QUEEN CELLS[/B]

Maggie James has provided tens of thousands of high-quality queen cells\, using the Airborne Honey method to commercial beekeepers throughout NZ for 20 plus years.

One-off tutorials for commercial beekeepers & long-term experienced hobbyists.

For more info & online bookings: [URL]https://mjqueenb.co.nz[/URL]

E: [EMAIL]mjqueenb@xtra.co.nz[/EMAIL]
P: 027 629 9388
Other venues considered - honey houses\, board rooms\, club rooms\, halls





[B] [/B]
DTSTART;VALUE=DATE:20220515
LOCATION:829 Taylor Pass Road\, Taylor Pass\, Blenheim\, New Zealand
SUMMARY:Blenheim: Queen Cell Production Powerpoint Tutorial\, Boardroom\, Taylor Pass Honey Co
URL;VALUE=URI:https://nzbees.net/events/blenheim-queen-cell-production-powerpoint-tutorial-boardroom-taylor-pass-honey-co.19/
PARTICIPATION:NEEDS-ACTION
END:VEVENT
END:VCALENDAR