BEGIN:VCALENDAR
VERSION:2.0
PRODID:-//hacksw/handcal//NONSGML v1.0//EN
CALSCALE:GREGORIAN
BEGIN:VEVENT
UID:27
DTSTAMP:20260423T084904Z
DESCRIPTION:All beekeepers welcome to a field day\, discussing varroa treatments\, pollination\, AFB and more
See the attached flier for more details and how to register
$45 for all - BBQ and beer provided
DTSTART:20230525T210000Z
DTEND:20230526T040000Z
LOCATION:312 Stout Street\, Riverdale\, Gisborne\, New Zealand
SUMMARY:Gisborne Tairawhiti Beekeeper Field Day
URL;VALUE=URI:https://nzbees.net/events/gisborne-tairawhiti-beekeeper-field-day.27/
PARTICIPATION:NEEDS-ACTION
END:VEVENT
END:VCALENDAR